BEGIN:VCALENDAR
VERSION:2.0
PRODID:-//Delaware Press Association - ECPv5.0.2.1//NONSGML v1.0//EN
CALSCALE:GREGORIAN
METHOD:PUBLISH
X-WR-CALNAME:Delaware Press Association
X-ORIGINAL-URL:https://delawarepressassociation.org
X-WR-CALDESC:Events for Delaware Press Association
BEGIN:VTIMEZONE
TZID:America/New_York
BEGIN:DAYLIGHT
TZOFFSETFROM:-0500
TZOFFSETTO:-0400
TZNAME:EDT
DTSTART:20180311T070000
END:DAYLIGHT
BEGIN:STANDARD
TZOFFSETFROM:-0400
TZOFFSETTO:-0500
TZNAME:EST
DTSTART:20181104T060000
END:STANDARD
END:VTIMEZONE
BEGIN:VEVENT
DTSTART;TZID=America/New_York:20180312T183000
DTEND;TZID=America/New_York:20180312T210000
DTSTAMP:20260425T232425
CREATED:20180305T153211Z
LAST-MODIFIED:20180308T202902Z
UID:1349-1520879400-1520888400@delawarepressassociation.org
SUMMARY:Sunshine Week Event March 12
DESCRIPTION:“The Role of State Government in Combating Illicit Financial Flows” \nSpeaker: Eryn Schornick\, Senior Policy Advisor\, Global Witness Anti-money-laundering Team \nWidener University Delaware Law School \nRuby Vale Moot Court Room \n4601 Concord Pike \nWilmington\, Delaware \nCLICK TO REGISTER FOR THIS FREE EVENT \n  \nMonday\, March 12\, 2018 \n6:30 p.m.  – Social Gathering and Networking \n7:00 p.m. – Program: \nWelcome: DPA President\, Mark Fowser \nOpening Remarks: DelCOG President\, Nick Wasileski \nSpeaker: Eryn Schornick plus audience Q & A \nLight refreshments \nFREE and open to the public  \nTrue or false? Delaware is a haven for money laundering\, drug trafficking\, terrorism\, and investment fraud. Because of Delaware’s accommodating business codes and the secrecy around formation of Limited Liability Companies (LLCs) in Delaware\, it’s all too true. In an article in the December 1\, 2017\, edition of The News Journal\, Karl Baker reports: “Secrecy around LLCs [Limited Liability Companies] in Delaware . . . can slow law enforcement efforts to find companies that act as conduits through which allegedly tainted money flows.” \nEryn Schornick’s presentation will address the problem of hidden company owners and the real life impact of these anonymously-owned companies based on Global Witness’s investigations into corruption\, including money laundering. While policy solutions are being negotiated at the federal level\, the presentation will highlight “the role of state government in combating illicit financial flows.” \nMs. Schornick has led a Global Witness investigation in partnership with NBC and Reuters into large-scale global money laundering\, including the proceeds of drug trafficking and dubious Russian and Eastern European investments in luxury properties. Her work has looked at how investors\, business\, government contractors and other major stakeholders are involved in or are exposed to financial and reputational risk in cases of corruption\, fraud\, and theft facilitated by anonymous shell companies. She is a NY licensed attorney with a focus on international humanitarian law and international human rights law. \n‘World’s top online brothel’ is Delaware company in ‘good standing.’ This headline in the February 9\, 2018\, edition of The News Journal leads into an article by Margie Fishman that states: “Backpage.com\, … involved in nearly three-quarters of the 10\,000 child-trafficking reports received annually by the National Center for Missing and Exploited Children\, has been sued repeatedly by state prosecutors\, sex trafficking survivors and victims’ advocacy groups\, [but] is currently meeting all requirements for a business entity outlined in Delaware law\, according to Secretary of State Jeff Bullock and Attorney General Matt Denn.” Bullock said\, “We don’t have the legal authority” to dissolve the company. \nMark Hays\, Anti-Money Laundering Campaign Leader at Global Witness says in reference to Fishman’s article\, “Extensive details are given about how the owners of Backpage used shell entities in Delaware and overseas to nominally sell their ownership stake in the company\, while still retaining control by other means – thus distancing themselves from further legal accountability.” \nDelCOG has been active in raising awareness and sponsoring state legislation to reform Delaware LLCs. John Flaherty\, DelCOG board member\, says\, “We have a history of ignoring legitimate law enforcement investigations; that does not bode well for the reputation of Delaware\, especially because our economy is dependent on incorporation fees and business taxes that make up a significant part of the state bud-get. But we are a leader in the incorporation of LLCs and must take responsibility for fixing the system.” \n“We are aware of the role that Delaware legal entities play in facilitating money laundering and sex trafficking\, including the Backpage case\,” Hays adds. “Global Witness works closely in coalition with a number of anti-trafficking groups that have documented the use of shell entities in trafficking networks in some detail. Delaware remains somewhat oppositional in this space\, but there are shifts afoot at the federal level that may signal a sea change in the diverse\, bipartisan support for this measure\, which could in turn shape’s Delaware’s position.” \nThe audience will be able to comment and to ask questions during the Q&A following the presentation. \nCLICK TO REGISTER FOR THIS FREE EVENT \nGet Directions to Widener University Delaware Law School \n4601 Concord Pike\, Wilmington\, Delaware \nGet Delaware Law School Campus Map \nFree parking in large well-lighted lot (P) behind Building 6 (Main law building) \nEnter lower level lobby from the parking lot (see top of screen) \nFor more information: heeltoetoe@gmail.com. \n
URL:https://delawarepressassociation.org/event/sunshine-week-event-march-12/
LOCATION:Widener University Delaware Law School\, Ruby Vale Moot Court Room\, 4601 Concord Pike\, Wilmington\, DE\, United States
ATTACH;FMTTYPE=image/jpeg:https://delawarepressassociation.org/wp-content/uploads/2018/03/SCHORNICK_ERYN-e1520262401579.jpg
ORGANIZER;CN="DPA":MAILTO:info@delawarepressassociation.org
END:VEVENT
END:VCALENDAR