BEGIN:VCALENDAR
VERSION:2.0
PRODID:-//Delaware Press Association - ECPv5.0.2.1//NONSGML v1.0//EN
CALSCALE:GREGORIAN
METHOD:PUBLISH
X-WR-CALNAME:Delaware Press Association
X-ORIGINAL-URL:https://delawarepressassociation.org
X-WR-CALDESC:Events for Delaware Press Association
BEGIN:VTIMEZONE
TZID:America/New_York
BEGIN:DAYLIGHT
TZOFFSETFROM:-0500
TZOFFSETTO:-0400
TZNAME:EDT
DTSTART:20180311T070000
END:DAYLIGHT
BEGIN:STANDARD
TZOFFSETFROM:-0400
TZOFFSETTO:-0500
TZNAME:EST
DTSTART:20181104T060000
END:STANDARD
END:VTIMEZONE
BEGIN:VEVENT
DTSTART;TZID=America/New_York:20181027T110000
DTEND;TZID=America/New_York:20181027T163000
DTSTAMP:20260425T223047
CREATED:20181024T075326Z
LAST-MODIFIED:20181024T083730Z
UID:1613-1540638000-1540657800@delawarepressassociation.org
SUMMARY:SPJ Workshop "Podcasting 3.0" October 27 in Philly
DESCRIPTION:Learn about podcasting and prepare your own podcast at the SPJ “Podcasting 3.0” workshop\, hosted by SPJ’s New Jersey and the Keystone chapters\, at the Pen & Pencil Club in Philly\, October 27. Topics include quality audio\, equipment\, content\, promotion\, and distribution; plus best resources. Attendees must take their own smart phones and laptops. Click here for more information about the “Podcasting 3.0” workshop. \nDPA member and professional podcaster Steve Lubetkin is one of the workshop facilitators. Vist Steve’s website.  Order Steve’s book\, “The business of Podcasting: How to Take Your Podcasting Passion from the Personal to the Professional.” \n  \n  \n  \n  \n
URL:https://delawarepressassociation.org/event/spj-workshop-podcasting-3-0-october-27-in-philly/
LOCATION:The Pen and Pencil Club\, 1522 Latimer Street\, Philadelphia\, 19102\, United States
ATTACH;FMTTYPE=image/png:https://delawarepressassociation.org/wp-content/uploads/2018/10/2018-10-29-SPJ-Podcasting-Event.png
END:VEVENT
END:VCALENDAR