BEGIN:VCALENDAR
VERSION:2.0
PRODID:-//Delaware Press Association - ECPv5.0.2.1//NONSGML v1.0//EN
CALSCALE:GREGORIAN
METHOD:PUBLISH
X-WR-CALNAME:Delaware Press Association
X-ORIGINAL-URL:https://delawarepressassociation.org
X-WR-CALDESC:Events for Delaware Press Association
BEGIN:VTIMEZONE
TZID:America/New_York
BEGIN:DAYLIGHT
TZOFFSETFROM:-0500
TZOFFSETTO:-0400
TZNAME:EDT
DTSTART:20250309T070000
END:DAYLIGHT
BEGIN:STANDARD
TZOFFSETFROM:-0400
TZOFFSETTO:-0500
TZNAME:EST
DTSTART:20251102T060000
END:STANDARD
END:VTIMEZONE
BEGIN:VEVENT
DTSTART;TZID=America/New_York:20250402T170000
DTEND;TZID=America/New_York:20250402T200000
DTSTAMP:20260425T155915
CREATED:20250317T140948Z
LAST-MODIFIED:20250327T214813Z
UID:2893-1743613200-1743624000@delawarepressassociation.org
SUMMARY:Networking Happy Hour
DESCRIPTION:Come for the engaging conversation\, hors d’oeuvres\, a free drink\, and prizes. \nREGISTER HERE \n
URL:https://delawarepressassociation.org/event/networking-happy-hour/
LOCATION:Iron Hill Brewery Riverfront\, 620 Justison St\, \, DE\, Wilmington\, DE\, 19801\, United States
CATEGORIES:DPA Events
ATTACH;FMTTYPE=image/jpeg:https://delawarepressassociation.org/wp-content/uploads/2025/03/2025-DPA-Networking-is-Back.jpg
ORGANIZER;CN="Delaware%20Press%20Association":MAILTO:DelawarePress@aol.com
END:VEVENT
END:VCALENDAR