BEGIN:VCALENDAR
VERSION:2.0
PRODID:-//Delaware Press Association - ECPv5.0.2.1//NONSGML v1.0//EN
CALSCALE:GREGORIAN
METHOD:PUBLISH
X-WR-CALNAME:Delaware Press Association
X-ORIGINAL-URL:https://delawarepressassociation.org
X-WR-CALDESC:Events for Delaware Press Association
BEGIN:VTIMEZONE
TZID:America/New_York
BEGIN:DAYLIGHT
TZOFFSETFROM:-0500
TZOFFSETTO:-0400
TZNAME:EDT
DTSTART:20190310T070000
END:DAYLIGHT
BEGIN:STANDARD
TZOFFSETFROM:-0400
TZOFFSETTO:-0500
TZNAME:EST
DTSTART:20191103T060000
END:STANDARD
END:VTIMEZONE
BEGIN:VEVENT
DTSTART;TZID=America/New_York:20191030T183000
DTEND;TZID=America/New_York:20191030T210000
DTSTAMP:20260425T191754
CREATED:20191025T203304Z
LAST-MODIFIED:20191025T211008Z
UID:1956-1572460200-1572469200@delawarepressassociation.org
SUMMARY:"High School and College Students – Real Journalists\, Real Rights"
DESCRIPTION:High School and College Students:\nReal Journalists\, Real Rights\nLongtime Advocate of Student Journalism\nFrank LoMonte\, Executive Director\nBrechner Center for Freedom of Information\nUniversity of Florida\nto speak at\nDelaware Press Association Special Session\nFREE and Open to the Public\nJoin us for this important presentation and panel discussion.\n\n\nDelaware Law School at Widener University\nRoom #119\n4601 Concord Pike\nWilmington\, Delaware\n\n\nWednesday\, October 30\, 2019\n\n6:30 p.m. Social Gathering and Light Refreshments\n\n7:05 p..m. Address by Frank LoMonte\n\n\n\nPanel discussion with Q & A to follow:\n\n\nFrank LoMonte   •   Rod Smolla   •   Charlisa Edelin\n\n\nFrank LoMonte\, J.D. When he was executive director of the Student Press Law Center in Washington\, D.C.\, LoMonte launched major initiatives\, including “New Voices\,” which has resulted in enactment of fortified legal protections for student journalists in 13 states\, and the “Active Voice” fellowship program for college undergraduates to design “press freedom” service projects. LoMonte has been an investigative journalist and political columnist. Now\, he teaches media and First Amendment law at the University of Florida. His work on behalf of open government and journalists’ rights\, has been recognized with numerous awards\, and the College Media Association offers an annual award in his name to honor special distinction in ethical journalism\n\n\nRod Smolla\, J.D. A nationally-known scholar on matters relating to constitutional law\, civil rights\, freedom of speech\, and mass media\, Smolla is Dean and Professor of Law at the Delaware Law School of Widener University. A prolific author\, his body of work includes many trade and university press books and multi-volume legal treatises. He is editor of the annual First Amendment Law Handbook. He also is an active litigator and has presented oral argument in state and federal courts across the country\, including the Supreme Court of the United States.\n\n\n\n\nCharlisa Edelin\, J.D. Associate Professor and Co-Director\, Law Studies Program\, Department of Mass Communications\, Visual and Performing Arts\, at Delaware State University. Edelin previously taught criminal justice and traditional law at Wesley College. She helped transform the legal studies program into a progressive law and justice studies department\, focused on “educating students for law school\, law enforcement and as a paralegal\,” and also developed a Criminal Justice master’s degree program. As a member of the Appoquinimink School District Board of Education\, she has focused on diversifying the district’s staff to reflect the changing demographic of the community and eradicating the achievement gap for minority children and boys within the district.\n\n\n\n\n\nThis event is FREE\, but please register.\n\n – REGISTER FOR THIS EVENT– \n\n\n\n“High School and College Students: Real Journalists\, Real Rights . . . and Why They Matter”\n\n\n\nFrank LoMonte saw the excellence and the positive results of the reportorial work done by high school and college students when\, for more than a decade\, he was executive director of the Student Press Law Center in Washington\, D.C. He also saw the injustice when some of the hard-working students were denied the right to publish what they discovered\, uncovered\, and wrote about. He and his colleagues stood ready to fight for them. \n  \nStudent journalists increasingly are stepping up to the plate to provide some of the state and local news coverage that some of the pared-down professional news organizations no longer can. But they don’t always have all the legal protections that professionals have come to rely on. LoMonte will take a look at: \n  \n\nwhat legal protections and remedies are available to student journalists.\nwhy they matter so greatly.\nhow state legislation can help keep journalism students and educators safe.\n\n\n\n\n\nDirections: Get directions to Delaware Law School\, 4601 Concord Pike\, Wilmington.\n\nParking: See campus map. Whether you take the main entrance or the second entrance\, park behind the Main Law Building (#6) in the well-lighted lot marked P6 (top of map). Enter the back of the building directly from the parking lot. Make the first right turn to get to Room #119.\n\n\n\n
URL:https://delawarepressassociation.org/event/high-school-and-college-students-real-journalists-real-rights/
LOCATION:Widener University\, Delaware Law School\, Room 119\, 4601 Concord Pike\, Wilmington\, Delaware\, 19803
END:VEVENT
END:VCALENDAR