BEGIN:VCALENDAR
VERSION:2.0
PRODID:-//Delaware Press Association - ECPv5.0.2.1//NONSGML v1.0//EN
CALSCALE:GREGORIAN
METHOD:PUBLISH
X-WR-CALNAME:Delaware Press Association
X-ORIGINAL-URL:https://delawarepressassociation.org
X-WR-CALDESC:Events for Delaware Press Association
BEGIN:VTIMEZONE
TZID:America/New_York
BEGIN:DAYLIGHT
TZOFFSETFROM:-0500
TZOFFSETTO:-0400
TZNAME:EDT
DTSTART:20190310T070000
END:DAYLIGHT
BEGIN:STANDARD
TZOFFSETFROM:-0400
TZOFFSETTO:-0500
TZNAME:EST
DTSTART:20191103T060000
END:STANDARD
END:VTIMEZONE
BEGIN:VEVENT
DTSTART;TZID=America/New_York:20191116T113000
DTEND;TZID=America/New_York:20191116T113000
DTSTAMP:20260425T173412
CREATED:20191105T094429Z
LAST-MODIFIED:20191105T122627Z
UID:1991-1573903800-1573903800@delawarepressassociation.org
SUMMARY:2019 DPA Holiday Luncheon
DESCRIPTION:The Delaware Press Association Holiday Luncheon\nSpeaker: Kevin Reilly\nFormer Eagles linebacker\, sportscaster\, author of \n“Tackling Life: How Faith\, Family\, Friends\, and Fortitude Kept an NFL Linebacker in the Game” \n“Talking My Way Through“\nEd Oliver Golf Club\n800 North Dupont Road\nWilmington\, Delaware \nSaturday\, November 16\, 2019 \n11:30 a.m.  –  Social Hour with Cash Bar \nBook signing with Kevin Reilly and DPA Authors\, Editors\, and Photographers \nMusic by Flute Duo Susan Ryan and Gretchen Cox \n12: 30 p.m.  –  Lunch and Speaker  \nPresentation of 2020 Communicator of Achievement \n  \nCost: $35  DPA Members and Guests;  $20  Students  \n  \nPark in large lot adjacent to the club. \n  \nMake Holiday Luncheon Reservations\n  \n                                                     Menu \n                Mixed Greens with Scarlet-Orange Dressing\n                                          Chicken Française  \n                      Green Beans   •   Roasted Red Potatoes\n                              Vegetarian Option: Ratatouille\n                                Carrot Cake   •  Coffee or Tea   \n\nSocial Hour: Take time out from the busy holiday season to catch up with DPA colleagues and friends at the Ed Oliver Golf Club on Saturday\, November 16. And you are welcome to bring guests. Enjoy the music of Flute Duo Susan Ryan & Gretchen Cox during the social hour with cash bar\, beginning at 11:30 a.m. \nBook Signing: During the social hour\, and following the luncheon\, you can take care of some holiday shopping. Kevin Reilly will be on hand to sign copies of his book\, Tackling Life: How Faith\, Family\, Friends\, and Fortitude Kept an NFL Linebacker in the Game. You also can shop and visit with DPA authors who will be happy to autograph their latest work. And don’t forget to pick up a bag of DPA 10-Bean Soup\, a great stocking stuffer\, and still just $5. \nSpeaker: During the luncheon\, former Eagles linebacker Kevin Reilly\, will talk about overcoming the challenges of losing an arm\, a shoulder\, and four ribs to a rare form of cancer at the start of his pro football career. Now a sportscaster\, an author\, and a motivational speaker\, he tours the country helping to change the lives of others who struggle with their own physical and mental challenges. Q & A to follow. \nThe COA Award: The Communicator of Achievement Award\, the highest honor DPA bestows on its members\, is given annually for outstanding professional achievement as well as for service to community\, to DPA\, and to  NFPW. The event will conclude when a DPA COA presents our 2020 Communicator of Achievement. Who will it be this year? Attend the DPA Holiday Luncheon to find out. \nDirections: \nFrom Route 52 (Kennett Pike)\, turn onto DuPont Road\, immediately north of the A. I. Du Pont Middle School. Ed Oliver is on the left in ½ mile. \nFrom Route 141\, turn onto Route 48 E. (Lancaster Avenue)\, heading toward Wilmington. In 1 mile\, at the light by the Charter School of Wilmington\, turn left onto Dupont Road. Ed Oliver is on the right in ½ mile. \nCost: $35 Members; $20 Students \nReservations: Please sign up no later than Monday\, November 11. \nWhether paying by credit card or check please register through the link below. \n–  Make Holiday Luncheon Reservations –\nFor more information: contact delawarepress@aol.com. \n  \n
URL:https://delawarepressassociation.org/event/dpa-holiday-luncheon-2/
CATEGORIES:DPA Events
END:VEVENT
END:VCALENDAR