BEGIN:VCALENDAR
VERSION:2.0
PRODID:-//Delaware Press Association - ECPv5.0.2.1//NONSGML v1.0//EN
CALSCALE:GREGORIAN
METHOD:PUBLISH
X-WR-CALNAME:Delaware Press Association
X-ORIGINAL-URL:https://delawarepressassociation.org
X-WR-CALDESC:Events for Delaware Press Association
BEGIN:VTIMEZONE
TZID:America/New_York
BEGIN:DAYLIGHT
TZOFFSETFROM:-0500
TZOFFSETTO:-0400
TZNAME:EDT
DTSTART:20180311T070000
END:DAYLIGHT
BEGIN:STANDARD
TZOFFSETFROM:-0400
TZOFFSETTO:-0500
TZNAME:EST
DTSTART:20181104T060000
END:STANDARD
END:VTIMEZONE
BEGIN:VEVENT
DTSTART;TZID=America/New_York:20181113T183000
DTEND;TZID=America/New_York:20181113T203000
DTSTAMP:20260425T210100
CREATED:20181031T174343Z
LAST-MODIFIED:20181031T174613Z
UID:1653-1542133800-1542141000@delawarepressassociation.org
SUMMARY:DPA Board Meeting
DESCRIPTION:
URL:https://delawarepressassociation.org/event/dpa-board-meeting/
LOCATION:The Country House\, 4830 Kennett Pike\, Wilmington\, DE 19807\, 4830 Kennett Pike\, Wilmington\, DE\, 19807\, United States
ATTACH;FMTTYPE=image/jpeg:https://delawarepressassociation.org/wp-content/uploads/2015/07/dpa-logo.jpg
END:VEVENT
END:VCALENDAR