BEGIN:VCALENDAR
VERSION:2.0
PRODID:-//Delaware Press Association - ECPv5.0.2.1//NONSGML v1.0//EN
CALSCALE:GREGORIAN
METHOD:PUBLISH
X-WR-CALNAME:Delaware Press Association
X-ORIGINAL-URL:https://delawarepressassociation.org
X-WR-CALDESC:Events for Delaware Press Association
BEGIN:VTIMEZONE
TZID:America/New_York
BEGIN:DAYLIGHT
TZOFFSETFROM:-0500
TZOFFSETTO:-0400
TZNAME:EDT
DTSTART:20190310T070000
END:DAYLIGHT
BEGIN:STANDARD
TZOFFSETFROM:-0400
TZOFFSETTO:-0500
TZNAME:EST
DTSTART:20191103T060000
END:STANDARD
END:VTIMEZONE
BEGIN:VEVENT
DTSTART;TZID=America/New_York:20190502T173000
DTEND;TZID=America/New_York:20190502T210000
DTSTAMP:20260425T192417
CREATED:20190425T060423Z
LAST-MODIFIED:20190426T222448Z
UID:1838-1556818200-1556830800@delawarepressassociation.org
SUMMARY:2019 DPA Communications Contest Awards Banquet
DESCRIPTION:Delaware Press Association Annual Meeting & Communications Contest Awards Banquet\nThe 2019  awards banquet will be held at the University & Whist Club\, 805 North Broom Street\, Wilmington\, on Thursday\, May 2. The annual event will honor those who entered the Communications Contests this year – professional communicators and high school journalists alike. Social hour with cash bar and display of award-winning entries begins at 5:30 p.m. Dinner\, speaker\, and awards presentation will begin at 6:30 p.m. \nFeatured speaker \nVictor Greto\, Associate Professor\, Multimedia Communication & History\, Wesley College\, believes the core of journalism as a vocation and duty has been dissipating in an American society mesmerized by technology and social media. His address will be “It’s Not About You\, But It’s All Up To You: Keeping Power Accountable Through Journalism and Multimedia Communication in the 21st Century.” Greto will talk about “the responsibilities that go with the decision to become a journalist and the need to practice technically efficient\, ethical multimedia communication in 21st-century America.” \nHe says “It’s not about you or your brand\, your social status\, likes\, shares or hits: It’s about your city\, your county\, your state\, your children\, the people you love\, and the country and world in which you are a citizen. It’s not about you. But it’s all up to you.”   \n  \nRegister and Pay by Credit Card or Check \n  \n  \n  \n  \n  \n  \n
URL:https://delawarepressassociation.org/event/2019-dpa-communications-contest-awards-banquet/
LOCATION:University & Whist Club\, 805 North Broom Street\, Wilmington\, Delaware
ATTACH;FMTTYPE=image/jpeg:https://delawarepressassociation.org/wp-content/uploads/2019/04/greto1.jpg
ORGANIZER;CN="Delaware%20Press%20Association":MAILTO:DelawarePress@aol.com
END:VEVENT
END:VCALENDAR