BEGIN:VCALENDAR
VERSION:2.0
PRODID:-//Delaware Press Association - ECPv5.0.2.1//NONSGML v1.0//EN
CALSCALE:GREGORIAN
METHOD:PUBLISH
X-WR-CALNAME:Delaware Press Association
X-ORIGINAL-URL:https://delawarepressassociation.org
X-WR-CALDESC:Events for Delaware Press Association
BEGIN:VTIMEZONE
TZID:America/New_York
BEGIN:DAYLIGHT
TZOFFSETFROM:-0500
TZOFFSETTO:-0400
TZNAME:EDT
DTSTART:20180311T070000
END:DAYLIGHT
BEGIN:STANDARD
TZOFFSETFROM:-0400
TZOFFSETTO:-0500
TZNAME:EST
DTSTART:20181104T060000
END:STANDARD
END:VTIMEZONE
BEGIN:VEVENT
DTSTART;TZID=America/New_York:20181107T183000
DTEND;TZID=America/New_York:20181107T210000
DTSTAMP:20260425T221728
CREATED:20181024T193013Z
LAST-MODIFIED:20181028T102224Z
UID:1622-1541615400-1541624400@delawarepressassociation.org
SUMMARY:Dan Bevarly\, NFOIC Executive Director to Address Open Government Challenges
DESCRIPTION:“Today\, members of the public – not journalists – lead the number of requests for public records! Those enacting reforms in state legislatures and executive branch agencies will require a broader\, more diverse consortium of people and organizations.” So says Dan Bevarly\, executive director of the National Freedom of information Coalition\, headquartered in the College of Journalism and Communications at the University of Florida.  Dan’s presentation\, “Challenges to State Open Government and Freedom of Information\,” at the Widener University\, Delaware Law School\, Room 119\, will begin at 7 p.m. He will offer tips on how individuals can be more involved and will take questions and comments afterward. \nThe event\, hosted by the Delaware Coalition for Open Government\, Delaware Press Association\, and the League of Women Voters\, is FREE and open to the public. Light refreshments will be served. \nREGISTER FOR OPEN GOVERNMENT EVENT WITH DAN BEVARLY \nDan works to support and strengthen all of the state open government coalitions. His experience in state and local government for 13 years has enabled his success with NFOIC just as it did during a career that spans the public\, nonprofit\, and private sectors. Originally serving as a contractor to develop and manage programs for NFOIC’s state affiliate members when he came on board in 2013\, he  work led to an online network of affiliate websites\, and a prototype web-based FOI training portal for public employees. Dan is also an adjunct professor of American Government at Florida Gulf Coast University and holds a Master’s degree in Public Administration and a Bachelor of Science in Criminal Justice. \n
URL:https://delawarepressassociation.org/event/1622/
LOCATION:Widener University\, Delaware Law School\, Room 119\, 4601 Concord Pike\, Wilmington\, Delaware\, 19803
ATTACH;FMTTYPE=image/png:https://delawarepressassociation.org/wp-content/uploads/2018/10/Bevarly-Dan-NFOIC-XDIR.400x400-original.2.png
ORGANIZER;CN="DPA%2C%20DelCOG%2C%20League%20of%20Women%20Voters":MAILTO:DelawarePress@aol.com
END:VEVENT
END:VCALENDAR